BEGIN:VCALENDAR
PRODID:-//kirchenweb.ch gmbh//veranstaltungsausgabe v2.0//DE
VERSION:2.0
METHOD:PUBLISH
BEGIN:VEVENT
DTSTART:20260904T073000Z
DTEND:20260904T083000Z
LOCATION:Kirche Maseltrangen\, \, 8723 Maseltrangen
TRANSP:OPAQUE
SEQUENCE:0
UID:26988-veranstaltung@ref-gl.ch
DTSTAMP:20250818T125935Z
DESCRIPTION:Thema: Erntedank\n\nKontakt: Silke Rimann\n\nWeitere Infos:
  https://www.ref-gl.ch/veranstaltung/26988
SUMMARY:Ökumenische Chli-Chinder-Fiir
PRIORITY:5
X-MICROSOFT-CDO-IMPORTANCE:1
CLASS:PUBLIC
END:VEVENT
END:VCALENDAR
