BEGIN:VCALENDAR
PRODID:-//kirchenweb.ch gmbh//veranstaltungsausgabe v2.0//DE
VERSION:2.0
METHOD:PUBLISH
BEGIN:VEVENT
DTSTART:20260612T070000Z
DTEND:20260612T080000Z
LOCATION:Kirchgemeindehaus Schänis\, Oberdorf 5\, 8718 Schänis
TRANSP:OPAQUE
SEQUENCE:0
UID:26987-veranstaltung@ref-gl.ch
DTSTAMP:20260108T132558Z
DESCRIPTION:Kinderwagenwallfahrt\nUeberraschung\n\nKontakt: Silke Rimann\n
 \nWeitere Infos: https://www.ref-gl.ch/veranstaltung/26987
SUMMARY:Ökumenische Chli-Chinder-Fiir
PRIORITY:5
X-MICROSOFT-CDO-IMPORTANCE:1
CLASS:PUBLIC
END:VEVENT
END:VCALENDAR
