BEGIN:VCALENDAR
PRODID:-//kirchenweb.ch gmbh//veranstaltungsausgabe v2.0//DE
VERSION:2.0
METHOD:PUBLISH
BEGIN:VEVENT
DTSTART:20260522T171500Z
DTEND:20260522T181500Z
LOCATION:Ref. Kirche Mollis\, Kerenzerbergstrasse\, 8753 Mollis
TRANSP:OPAQUE
SEQUENCE:0
UID:26924-veranstaltung@ref-gl.ch
DTSTAMP:20260227T093917Z
DESCRIPTION:Mit Band. Anschliessend Getränke und Snacks. (Offen für
  Alle)\n\nKontakt: Oscar Vazquez\n\nWeitere Infos:
  https://www.ref-gl.ch/veranstaltung/26924
SUMMARY:Jugendgottesdienst Special
PRIORITY:5
X-MICROSOFT-CDO-IMPORTANCE:1
CLASS:PUBLIC
END:VEVENT
END:VCALENDAR
