BEGIN:VCALENDAR
PRODID:-//kirchenweb.ch gmbh//veranstaltungsausgabe v2.0//DE
VERSION:2.0
METHOD:PUBLISH
BEGIN:VEVENT
DTSTART:20260809T083000Z
DTEND:20260809T093000Z
LOCATION:Ref. Kirche Mühlehorn\, Dorfstrasse 30\, 8874 Mühlehorn
TRANSP:OPAQUE
SEQUENCE:0
UID:26874-veranstaltung@ref-gl.ch
DTSTAMP:20260210T091456Z
DESCRIPTION:Kontakt: Katja Missal\n\nWeitere Infos:
  https://www.ref-gl.ch/veranstaltung/26874
SUMMARY:Schulanfangs-Gottesdienst
PRIORITY:5
X-MICROSOFT-CDO-IMPORTANCE:1
CLASS:PUBLIC
END:VEVENT
END:VCALENDAR
