BEGIN:VCALENDAR
PRODID:-//kirchenweb.ch gmbh//veranstaltungsausgabe v2.0//DE
VERSION:2.0
METHOD:PUBLISH
BEGIN:VEVENT
DTSTART:20260809T151500Z
DTEND:20260809T161500Z
LOCATION:Ref. Kirche Mollis\, Kerenzerbergstrasse\, 8753 Mollis
TRANSP:OPAQUE
SEQUENCE:0
UID:26873-veranstaltung@ref-gl.ch
DTSTAMP:20260114T121743Z
DESCRIPTION:Kontakt: Ansgar Gmür\n\nWeitere Infos:
  https://www.ref-gl.ch/veranstaltung/26873
SUMMARY:Ökumenischer Schulanfangs-Gottesdienst
PRIORITY:5
X-MICROSOFT-CDO-IMPORTANCE:1
CLASS:PUBLIC
END:VEVENT
END:VCALENDAR
