BEGIN:VCALENDAR
PRODID:-//kirchenweb.ch gmbh//veranstaltungsausgabe v2.0//DE
VERSION:2.0
METHOD:PUBLISH
BEGIN:VEVENT
DTSTART:20260415T120000Z
DTEND:20260415T140000Z
LOCATION:Kapellenzentrum St. Katharina Bilten\, Heinrich
  Rosenbergstrasse\, 8865 Bilten
TRANSP:OPAQUE
SEQUENCE:0
UID:26870-veranstaltung@ref-gl.ch
DTSTAMP:20260108T132229Z
DESCRIPTION:Türöffnung ab 13.40 Uhr.\nFür Transportmöglichkeiten bitte
  bei Maya Schmid melden.\n\n\nKontakt: Maya Schmid\, Tel. 055 615 24 13\n
 \nWeitere Infos: https://www.ref-gl.ch/veranstaltung/26870
SUMMARY:Ökumenischer Seniorennachmittag
PRIORITY:5
X-MICROSOFT-CDO-IMPORTANCE:1
CLASS:PUBLIC
END:VEVENT
END:VCALENDAR
