BEGIN:VCALENDAR
PRODID:-//kirchenweb.ch gmbh//veranstaltungsausgabe v2.0//DE
VERSION:2.0
METHOD:PUBLISH
BEGIN:VEVENT
DTSTART:20260511T120000Z
DTEND:20260511T140000Z
LOCATION:Kirchgemeindehaus Mollis\, Bahnhofstrasse 5\, 8753 Mollis
TRANSP:OPAQUE
SEQUENCE:0
UID:26738-veranstaltung@ref-gl.ch
DTSTAMP:20250709T053243Z
DESCRIPTION:Kontakt: Ursula Tolle\n\nWeitere Infos:
  https://www.ref-gl.ch/veranstaltung/26738
SUMMARY:Montagstreff
PRIORITY:5
X-MICROSOFT-CDO-IMPORTANCE:1
CLASS:PUBLIC
END:VEVENT
END:VCALENDAR
