BEGIN:VCALENDAR
PRODID:-//kirchenweb.ch gmbh//veranstaltungsausgabe v2.0//DE
VERSION:2.0
METHOD:PUBLISH
BEGIN:VEVENT
DTSTART:20260927T080000Z
DTEND:20260927T090000Z
LOCATION:Kirchgemeindehaus Schänis\, Oberdorf 5\, 8718 Schänis
TRANSP:OPAQUE
SEQUENCE:0
UID:25962-veranstaltung@ref-gl.ch
DTSTAMP:20260313T074824Z
DESCRIPTION:Gemäss Protokoll von Paul Baumann\, 20.3.25\n\nKontakt:
  stephanie.cathomas@ref-gl.ch\n\nWeitere Infos:
  https://www.ref-gl.ch/veranstaltung/25962
SUMMARY:Ökumenischer Erntedankgottesdienst Schänis Maseltrangen
PRIORITY:5
X-MICROSOFT-CDO-IMPORTANCE:1
CLASS:PUBLIC
END:VEVENT
END:VCALENDAR
